BEGIN:VCALENDAR
VERSION:2.0
PRODID:-//nurio//Event Calendar//EN
CALSCALE:GREGORIAN
METHOD:PUBLISH
BEGIN:VEVENT
DTSTAMP:20260420T015144Z
UID:event-10@nurio.io
DTSTART:20260322T060000
DTEND:20260322T080000
DESCRIPTION:What to Expect at Our EventsWeekly in-person language exchange 
 meetupsCasual\, café-style atmosphereThere’s always someone new to meet
  and talk to.&nbsp\;Who Comes to These Meetups?Both locals and internation
 alsHow It WorksChoose an event timeBook a spotShow up and join the convers
 ationThat’s it.You can come alone or with friends.Running late? No probl
 em. Join when you can\, leave when you want.Please note:To keep conversati
 ons balanced\, walk-in registration may be denied depending on group bala.
 ..
LOCATION:Tamitie Coffee\, 101 호\, 591\, Doan-daero\, Yuseong District\, D
 aejeon
SUMMARY:[Free for First 10] Daejeon Language Exchange (대전 언어교환 
 모임)
URL;VALUE=URI:https://www.nurio.kr/events/10
END:VEVENT
END:VCALENDAR
